BEGIN:VCALENDAR
VERSION:2.0
PRODID:-//DP Pro Event Calendar//2.9.9//EN
BEGIN:VEVENT
UID:bdaee13e-7c51-4287-bde8-39dd8c386890
DTSTART;TZID=Europe/Madrid:20170207T000000
DTEND;TZID=Europe/Madrid:20170207T000000
DTSTAMP:20171201T132159Z
SUMMARY:FRUIT LOGISTICA 2018
DESCRIPTION:Lugar: Berlín (Alemania)\r \n \r \n Conferencia y Exhibición
LOCATION:
URL:
END:VEVENT
END:VCALENDAR